BEGIN:VCALENDAR
VERSION:2.0
PRODID:-//SEQ Firearms Training - ECPv5.1.5//NONSGML v1.0//EN
CALSCALE:GREGORIAN
METHOD:PUBLISH
X-WR-CALNAME:SEQ Firearms Training
X-ORIGINAL-URL:https://www.seqfirearmstraining.com.au
X-WR-CALDESC:Events for SEQ Firearms Training
BEGIN:VTIMEZONE
TZID:Australia/Brisbane
BEGIN:STANDARD
TZOFFSETFROM:+1000
TZOFFSETTO:+1000
TZNAME:AEST
DTSTART:20210101T000000
END:STANDARD
END:VTIMEZONE
BEGIN:VEVENT
DTSTART;TZID=Australia/Brisbane:20210313T081500
DTEND;TZID=Australia/Brisbane:20210313T150000
DTSTAMP:20210301T023458
CREATED:20210224T005306Z
LAST-MODIFIED:20210224T005416Z
UID:4113-1615623300-1615647600@www.seqfirearmstraining.com.au
SUMMARY:Saturday\,
DESCRIPTION:\n\n\nDelivery method\nThis course is delivered face-to- face only.\n\n\nDuration\nThe course is delivered in 1 day (6 hours) including theory\, practical and live fire range practice.\n\n\n\n\n\n	Related\n
URL:https://www.seqfirearmstraining.com.au/course/sunday-7/
LOCATION:Toowoomba\, (address provided upon enrolment)\, Toowoomba\, Queensland\, 4350\, Australia
END:VEVENT
END:VCALENDAR